BEGIN:VCALENDAR
VERSION:2.0
PRODID:-//Sheffield &amp; District Orchid Society - ECPv6.15.20//NONSGML v1.0//EN
CALSCALE:GREGORIAN
METHOD:PUBLISH
X-ORIGINAL-URL:https://sheffieldorchids.co.uk
X-WR-CALDESC:Events for Sheffield &amp; District Orchid Society
REFRESH-INTERVAL;VALUE=DURATION:PT1H
X-Robots-Tag:noindex
X-PUBLISHED-TTL:PT1H
BEGIN:VTIMEZONE
TZID:Europe/London
BEGIN:DAYLIGHT
TZOFFSETFROM:+0000
TZOFFSETTO:+0100
TZNAME:BST
DTSTART:20240331T010000
END:DAYLIGHT
BEGIN:STANDARD
TZOFFSETFROM:+0100
TZOFFSETTO:+0000
TZNAME:GMT
DTSTART:20241027T010000
END:STANDARD
BEGIN:DAYLIGHT
TZOFFSETFROM:+0000
TZOFFSETTO:+0100
TZNAME:BST
DTSTART:20250330T010000
END:DAYLIGHT
BEGIN:STANDARD
TZOFFSETFROM:+0100
TZOFFSETTO:+0000
TZNAME:GMT
DTSTART:20251026T010000
END:STANDARD
BEGIN:DAYLIGHT
TZOFFSETFROM:+0000
TZOFFSETTO:+0100
TZNAME:BST
DTSTART:20260329T010000
END:DAYLIGHT
BEGIN:STANDARD
TZOFFSETFROM:+0100
TZOFFSETTO:+0000
TZNAME:GMT
DTSTART:20261025T010000
END:STANDARD
END:VTIMEZONE
BEGIN:VEVENT
DTSTART;TZID=Europe/London:20250606T090000
DTEND;TZID=Europe/London:20250608T170000
DTSTAMP:20260422T122804
CREATED:20250314T232036Z
LAST-MODIFIED:20250314T232038Z
UID:1787-1749200400-1749402000@sheffieldorchids.co.uk
SUMMARY:Chatsworth Garden & Plant Fair
DESCRIPTION:Event details \n\n\n\nSDOS will have a stall at the Fair selling orchids and other tropical plants to support the Society. In addition we will be giving a talk on growing orchids every day during the event.  \n\n\n\n \n\n\n\nFriday 6 to Sunday 8 June \n\n\n\nEntry is included with all ‘house and garden’ and ‘garden’ tickets. \n\n\n\nView the provision timetable here. \n\n\n\nJoin us for our 2025 garden and plant fair\, and enjoy a full day out learning from the experts\, browsing specialist nurseries from around the country and enjoying live music and great food.  \n\n\n\nAdmission to the garden and plant fair is included with all tickets that feature the garden. \n\n\n\nExplore the garden \n\n\n\nThe fair will take place in the 105-acre Chatsworth Garden and entry is included with any ticket that includes the garden\, no additional booking is required. Explore the garden at your leisure throughout the day. View map. \n\n\n\nWe recommend booking garden entry in advance. \n\n\n\nStay up to date \n\n\n\nReceive the latest news on Chatsworth events and special offers by signing up for our monthly email.  \n\n\n\nSIGN UP \n\n\n\nFriends Go Free\n\n\n\nEntry to this event is free with your Friends membership. Simply book a house and garden\, or garden using your Friends membership number and registered email address. You can also purchase guest tickets at 10% off. \n\n\n\nNot yet a friend? Learn more about the benefits of Friends membership\, and how you can support the Chatsworth House Trust charity. \n\n\n\nhttps://www.chatsworth.org/events/garden-and-plant-fair
URL:https://sheffieldorchids.co.uk/event/chatsworth-garden-plant-fair
LOCATION:Chatsworth House\, Bakewell\, DE45 1PP\, United Kingdom
CATEGORIES:Flower Show
ATTACH;FMTTYPE=image/png:https://sheffieldorchids.co.uk/wp-content/uploads/2024/02/image-22.png
END:VEVENT
END:VCALENDAR